BEGIN:VCALENDAR
VERSION:2.0
PRODID:-//The Art of Jill Tichenor - ECPv6.15.17.1//NONSGML v1.0//EN
CALSCALE:GREGORIAN
METHOD:PUBLISH
X-WR-CALNAME:The Art of Jill Tichenor
X-ORIGINAL-URL:https://www.jilltichenor.art
X-WR-CALDESC:Events for The Art of Jill Tichenor
REFRESH-INTERVAL;VALUE=DURATION:PT1H
X-Robots-Tag:noindex
X-PUBLISHED-TTL:PT1H
BEGIN:VTIMEZONE
TZID:UTC
BEGIN:STANDARD
TZOFFSETFROM:+0000
TZOFFSETTO:+0000
TZNAME:UTC
DTSTART:20240101T000000
END:STANDARD
END:VTIMEZONE
BEGIN:VEVENT
DTSTART;TZID=UTC:20250401T103000
DTEND;TZID=UTC:20250506T123000
DTSTAMP:20260420T011127
CREATED:20250323T210311Z
LAST-MODIFIED:20250323T210619Z
UID:1640-1743503400-1746534600@www.jilltichenor.art
SUMMARY:Painting with Pastels (InterUrban) - Apr 2025
DESCRIPTION:This class\, which is tailored towards beginners to intermediate\, will provide insight into some of my techniques and inspirations. It will benefit beginners\, as well as experienced pastel artists who would like to enhance their skills. \nThis artist-led class consists of six 2-hour sessions\, over consecutive Tuesdays\, starting April 1st 2025\, until May 6th 2025. \nSupply List\n \nRecommended class materials include: \n\nRembrandt Pastels (15 Stick Set)\nCanson XL Dry Mixed-Media Paper\nCharcoal Pencil\nVine Charcoal\nPastel Pencils (12 Set)\nStumps #4 size\nKnead Eraser (Large)\nWax paper\nApron\n\nHow to Enrol\n \nBook your place now by choosing a ticket quantity below\, and clicking Get Tickets. You will then be able to make a secure PayPal or credit/debit card payment. Alternatively\, please click the link below\, under Details\, or contact InterUrban ArtHouse on 913-283-7091\, or email info@interurbanarthouse.org. \nIf you have specific enquiries about the class\, then you can email me directly on tichenorjill@gmail.com. I look forward to pastel painting with you soon!
URL:https://www.jilltichenor.art/event/painting-with-pastels-interurban-apr-2025/
LOCATION:InterUrban ArtHouse\, 8001 Newton Street\, Overland Park\, KS\, 66204\, United States
CATEGORIES:Classes & Workshops
ATTACH;FMTTYPE=image/png:https://www.jilltichenor.art/wp-content/uploads/2023/09/paintingwithpastels-2-1030-1230.png
ORGANIZER;CN="InterUrban ArtHouse":MAILTO:info@interurbanarthouse.org
END:VEVENT
END:VCALENDAR