BEGIN:VCALENDAR
VERSION:2.0
PRODID:-//The Art of Jill Tichenor - ECPv6.15.17.1//NONSGML v1.0//EN
CALSCALE:GREGORIAN
METHOD:PUBLISH
X-ORIGINAL-URL:https://www.jilltichenor.art
X-WR-CALDESC:Events for The Art of Jill Tichenor
REFRESH-INTERVAL;VALUE=DURATION:PT1H
X-Robots-Tag:noindex
X-PUBLISHED-TTL:PT1H
BEGIN:VTIMEZONE
TZID:UTC
BEGIN:STANDARD
TZOFFSETFROM:+0000
TZOFFSETTO:+0000
TZNAME:UTC
DTSTART:20220101T000000
END:STANDARD
END:VTIMEZONE
BEGIN:VEVENT
DTSTART;TZID=UTC:20230110T133000
DTEND;TZID=UTC:20230110T153000
DTSTAMP:20260422T053227
CREATED:20221228T103521Z
LAST-MODIFIED:20230808T164833Z
UID:617-1673357400-1673364600@www.jilltichenor.art
SUMMARY:Pen and Ink Drawing (Overland Park) - Jan '23
DESCRIPTION:Tour the effects of simple tools with limited colors to achieve pen and ink work. In this class I introduce students to how I use the tools for exploring ink drawings. There will be demos and drawing exercises in class\, to reinforce what students learn. \nThis artist-led class consists of four 2-hour sessions\, over four consecutive Tuesdays\, starting 10th January\, 2023. \nClass Kit \nMaterials required during the course include: \n\nStrathmore Toned Grey (400 Series) Sketch Paper ???\nBlack Ink ???\nPITT Pen ???\nBlack Pen ???\nWhite Pen ???\n\nThe above materials can be ordered beforehand through Creative Coldsnow: https://creativecoldsnow.com/product/pen-ink-drawing-w-jill-tichenor-op-jan-10-17-24-31-feb-7-14-130-330pm/ \nHow to Enrol \nTo enrol\, visit the Creative Coldsnow website (event link below)\, visit the store in person (see address and directions under Organizer)\, or call Creative Coldsnow on 913-649-9021. I look forward to drawing with you soon!
URL:https://www.jilltichenor.art/event/pen-and-ink-drawing/
LOCATION:Creative Coldsnow\, 10456 Metcalf Ave\, Overland Park\, KS\, 66212\, United States
CATEGORIES:Classes & Workshops
ATTACH;FMTTYPE=image/jpeg:https://www.jilltichenor.art/wp-content/uploads/2022/12/class-pen-and-ink-lake-district-house.jpg
ORGANIZER;CN="Creative Coldsnow":MAILTO:info@creativecoldsnow.com
END:VEVENT
END:VCALENDAR