BEGIN:VCALENDAR
VERSION:2.0
PRODID:-//The Art of Jill Tichenor - ECPv6.15.17.1//NONSGML v1.0//EN
CALSCALE:GREGORIAN
METHOD:PUBLISH
X-ORIGINAL-URL:https://www.jilltichenor.art
X-WR-CALDESC:Events for The Art of Jill Tichenor
REFRESH-INTERVAL;VALUE=DURATION:PT1H
X-Robots-Tag:noindex
X-PUBLISHED-TTL:PT1H
BEGIN:VTIMEZONE
TZID:UTC
BEGIN:STANDARD
TZOFFSETFROM:+0000
TZOFFSETTO:+0000
TZNAME:UTC
DTSTART:20220101T000000
END:STANDARD
END:VTIMEZONE
BEGIN:VEVENT
DTSTART;TZID=UTC:20230822T103000
DTEND;TZID=UTC:20231003T123000
DTSTAMP:20260419T131414
CREATED:20230808T170031Z
LAST-MODIFIED:20230924T195305Z
UID:1140-1692700200-1696336200@www.jilltichenor.art
SUMMARY:Painting with Pastels (InterUrban) - Aug 2023
DESCRIPTION:This class\, which is tailored towards beginners to intermediate\, will provide insight into some of my techniques and inspirations. It will benefit beginners\, as well as experienced pastel artists who would like to enhance their skills. \nThis artist-led class consists of six 2-hour sessions\, over consecutive Tuesdays\, starting 22nd August\, 2023. Please note that there will be no class on 5th September\, so the last session will be 3rd October. \nSupply List\n \nRecommended class materials include: \n\nRembrandt Pastels (15 Stick Set)\nPastel Paper (Recommended: Strathmore pastel paper pads\, Canson pastel paper pads\, Strathmore mixed media paper pads)\nStumps #4 size\nKnead eraser (large)\nApron\nCharcoal pencil\nWax paper\n\nHow to Enrol\n \nBook you place now by choosing a ticket quantity below\, and clicking Get Tickets. You will then be able to make a secure PayPal or credit/debit card payment. Alternatively\, please click the link below\, under Details\, or contact InterUrban ArtHouse on 913-283-7091\, or email info@interurbanarthouse.org. \nIf you have specific enquiries about the class\, then you can email me directly on tichenorjill@gmail.com. I look forward to pastel painting with you soon!
URL:https://www.jilltichenor.art/event/painting-with-pastels-interurban-aug-23/
LOCATION:InterUrban ArtHouse\, 8001 Newton Street\, Overland Park\, KS\, 66204\, United States
CATEGORIES:Classes & Workshops
ATTACH;FMTTYPE=image/jpeg:https://www.jilltichenor.art/wp-content/uploads/2023/04/10481762_1115492768478374_1908249972565139647_n.jpg
ORGANIZER;CN="InterUrban ArtHouse":MAILTO:info@interurbanarthouse.org
END:VEVENT
BEGIN:VEVENT
DTSTART;TZID=UTC:20230912T140000
DTEND;TZID=UTC:20231017T160000
DTSTAMP:20260419T131414
CREATED:20230808T171913Z
LAST-MODIFIED:20230808T211751Z
UID:1158-1694527200-1697558400@www.jilltichenor.art
SUMMARY:Beyond the Pencil (InterUrban) - Sept '23
DESCRIPTION:This class will be a combination of reviewing the fundamental drawing exercises and experimenting with different mediums to draw and create. Students will be encouraged to try different mediums to take their work to a new level. To think outside the box. We will be taking a playful look towards the joys of making art. \n  \nThis artist-led class consists of six 2-hour sessions\, over six consecutive Tuesdays\, starting 12th September\, 2023. \nSupply List\n \nRecommended class materials include: \n\nPencils 2H\, 4H\, HB\, 2B\, 4B\, 6B\nStrathmore Mixed media sketchbook (at least 9×12 in size)\n1 watercolor brush angular ½\nWatercolor pencils\nKnead eraser x-large\nBlending stumps #3 size\nRuler\n3 x Sharpie\n2 x Posca pens of your choice of color\nHiggins black ink\nPentel sign pen (water-soluable)\nCharcoal vine\nStabilo Woody black\nWater-soluble graphite pencil\n\nHow to Enrol \nBook you place now by choosing a ticket quantity below\, and clicking Get Tickets. You will then be able to make a secure PayPal or credit/debit card payment. Alternatively\, please click the link below\, under Details\, or contact InterUrban ArtHouse on 913-283-7091\, or email info@interurbanarthouse.org. \nIf you have specific enquiries about the class\, then you can email me directly on tichenorjill@gmail.com. I look forward to pastel painting with you soon!
URL:https://www.jilltichenor.art/event/beyond-the-pencil-roeland-park-sept-23/
LOCATION:InterUrban ArtHouse\, 8001 Newton Street\, Overland Park\, KS\, 66204\, United States
CATEGORIES:Classes & Workshops
ATTACH;FMTTYPE=image/jpeg:https://www.jilltichenor.art/wp-content/uploads/2023/05/Lady-Cross-Legged-with-Colour-scaled.jpg
ORGANIZER;CN="InterUrban ArtHouse":MAILTO:info@interurbanarthouse.org
END:VEVENT
BEGIN:VEVENT
DTSTART;TZID=UTC:20230915T103000
DTEND;TZID=UTC:20231020T123000
DTSTAMP:20260419T131414
CREATED:20230808T212536Z
LAST-MODIFIED:20230924T195249Z
UID:1164-1694773800-1697805000@www.jilltichenor.art
SUMMARY:Painting with Pastels (Roeland Park) - Sept 2023
DESCRIPTION:This class will provide insight into some of my techniques and inspirations. It will benefit beginners\, as well as experienced pastel artists who would like to enhance their skills. \nThis artist-led class consists of six 2-hour sessions\, over six consecutive Fridays\, starting 15th September\, 2023. \nClass Kit \nRecommended class materials include: \n\nRembrandt Pastels (15 Stick Set)\nPastel Paper (Recommended: Strathmore pastel paper pads\, Canson pastel paper pads\, Strathmore mixed media paper pads)\nStumps #4 size\nKnead eraser (large)\nApron\nCharcoal pencil\nWax paper\n\nHow to Enrol \nBook you place now by choosing a ticket quantity below\, and clicking Get Tickets. You will then be able to make a secure PayPal or credit/debit card payment. Alternatively\, email me directly on tichenorjill@gmail.com. I look forward to pastel painting with you soon! \n 
URL:https://www.jilltichenor.art/event/painting-with-pastels-roeland-park-sept-23/
LOCATION:Buena Vista Studio\, 4301 West 51st Street\, Roeland Park\, KS\, 66205\, United States
CATEGORIES:Classes & Workshops
ATTACH;FMTTYPE=image/jpeg:https://www.jilltichenor.art/wp-content/uploads/2022/12/class-pastel-washing-line.jpg
END:VEVENT
BEGIN:VEVENT
DTSTART;TZID=UTC:20230915T140000
DTEND;TZID=UTC:20231006T160000
DTSTAMP:20260419T131414
CREATED:20230808T213549Z
LAST-MODIFIED:20230808T213549Z
UID:1167-1694786400-1696608000@www.jilltichenor.art
SUMMARY:Beyond the Pencil (Roeland Park) - Sept '23
DESCRIPTION:This class will be a combination of reviewing the fundamental drawing exercises and experimenting with different mediums to draw and create. Students will be encouraged to try different mediums to take their work to a new level. To think outside the box. We will be taking a playful look towards the joys of making art. \n  \nThis artist-led class consists of four 2-hour sessions\, over four consecutive Fridays\, starting 15th September\, 2023. \nSupply List\n \nRecommended class materials include: \n\nPencils 2H\, 4H\, HB\, 2B\, 4B\, 6B\nStrathmore Mixed media sketchbook (at least 9×12 in size)\n1 watercolor brush angular ½\nWatercolor pencils\nKnead eraser x-large\nBlending stumps #3 size\nRuler\n3 x Sharpie\n2 x Posca pens of your choice of color\nHiggins black ink\nPentel sign pen (water-soluable)\nCharcoal vine\nStabilo Woody black\nWater-soluble graphite pencil\n\nHow to Enrol \nBook you place now by choosing a ticket quantity below\, and clicking Get Tickets. You will then be able to make a secure PayPal or credit/debit card payment. Alternatively\, email me directly on tichenorjill@gmail.com. I look forward to pastel painting with you soon!
URL:https://www.jilltichenor.art/event/beyond-the-pencil-roeland-park-sept-23-2/
LOCATION:Buena Vista Studio\, 4301 West 51st Street\, Roeland Park\, KS\, 66205\, United States
CATEGORIES:Classes & Workshops
ATTACH;FMTTYPE=image/jpeg:https://www.jilltichenor.art/wp-content/uploads/2022/12/386770_558399204187736_1598318479_n.jpg
END:VEVENT
BEGIN:VEVENT
DTSTART;TZID=UTC:20230915T140000
DTEND;TZID=UTC:20231020T160000
DTSTAMP:20260419T131414
CREATED:20230923T130558Z
LAST-MODIFIED:20230923T130558Z
UID:1267-1694786400-1697817600@www.jilltichenor.art
SUMMARY:Beyond the Pencil (Roeland Park) - Sept '23
DESCRIPTION:This class will be a combination of reviewing the fundamental drawing exercises and experimenting with different mediums to draw and create. Students will be encouraged to try different mediums to take their work to a new level. To think outside the box. We will be taking a playful look towards the joys of making art. \n  \nThis artist-led class consists of four 2-hour sessions\, over 6 consecutive Fridays\, starting September 15th 2023\, until October 20th 2023. \nSupply List\n \nRecommended class materials include: \n\nPencils 2H\, 4H\, HB\, 2B\, 4B\, 6B\nStrathmore Mixed media sketchbook (at least 9×12 in size)\n1 watercolor brush angular ½\nWatercolor pencils\nKnead eraser x-large\nBlending stumps #3 size\nRuler\n3 x Sharpie\n2 x Posca pens of your choice of color\nHiggins black ink\nPentel sign pen (water-soluable)\nCharcoal vine\nStabilo Woody black\nWater-soluble graphite pencil\n\nHow to Enrol \nBook you place now by choosing a ticket quantity below\, and clicking Get Tickets. You will then be able to make a secure PayPal or credit/debit card payment. Alternatively\, email me directly on tichenorjill@gmail.com. I look forward to pastel painting with you soon!
URL:https://www.jilltichenor.art/event/beyond-the-pencil-roeland-park-sept-23-3/
LOCATION:Buena Vista Studio\, 4301 West 51st Street\, Roeland Park\, KS\, 66205\, United States
CATEGORIES:Classes & Workshops
ATTACH;FMTTYPE=image/jpeg:https://www.jilltichenor.art/wp-content/uploads/2023/09/Titch-with-Cup-and-Flower.jpg
END:VEVENT
BEGIN:VEVENT
DTSTART;TZID=UTC:20230922T103000
DTEND;TZID=UTC:20231027T123000
DTSTAMP:20260419T131414
CREATED:20230923T124816Z
LAST-MODIFIED:20230924T195243Z
UID:1261-1695378600-1698409800@www.jilltichenor.art
SUMMARY:Painting with Pastels (Roeland Park) - Sept 2023
DESCRIPTION:This class will provide insight into some of my techniques and inspirations. It will benefit beginners\, as well as experienced pastel artists who would like to enhance their skills. \nThis artist-led class consists of six 2-hour sessions\, over six consecutive Fridays\, starting September 22nd 2023\, until October 27th 2023. \nClass Kit \nRecommended class materials include: \n\nRembrandt Pastels (15 Stick Set)\nPastel Paper (Recommended: Strathmore pastel paper pads\, Canson pastel paper pads\, Strathmore mixed media paper pads)\nStumps #4 size\nKnead eraser (large)\nApron\nCharcoal pencil\nWax paper\n\nHow to Enrol \nBook your place now by choosing a ticket quantity below\, and clicking Get Tickets. You will then be able to make a secure PayPal or credit/debit card payment. Alternatively\, email me directly on tichenorjill@gmail.com. I look forward to pastel painting with you soon! \n 
URL:https://www.jilltichenor.art/event/painting-with-pastels-roeland-park-sept-23-2/
LOCATION:Buena Vista Studio\, 4301 West 51st Street\, Roeland Park\, KS\, 66205\, United States
CATEGORIES:Classes & Workshops
ATTACH;FMTTYPE=image/jpeg:https://www.jilltichenor.art/wp-content/uploads/2023/07/bad-hair-day.jpg
END:VEVENT
BEGIN:VEVENT
DTSTART;TZID=UTC:20231010T103000
DTEND;TZID=UTC:20231114T123000
DTSTAMP:20260419T131414
CREATED:20230923T121653Z
LAST-MODIFIED:20230924T195226Z
UID:1254-1696933800-1699965000@www.jilltichenor.art
SUMMARY:Painting with Pastels (InterUrban) - Oct 2023
DESCRIPTION:This class\, which is tailored towards beginners to intermediate\, will provide insight into some of my techniques and inspirations. It will benefit beginners\, as well as experienced pastel artists who would like to enhance their skills. \nThis artist-led class consists of six 2-hour sessions\, over consecutive Tuesdays\, starting October 10th 2023\, until November 14th 2023. \nSupply List\n \nRecommended class materials include: \n\nRembrandt Pastels (15 Stick Set)\nPastel Paper (Recommended: Strathmore pastel paper pads\, Canson pastel paper pads\, Strathmore mixed media paper pads)\nStumps #4 size\nKnead eraser (large)\nApron\nCharcoal pencil\nWax paper\n\nHow to Enrol\n \nBook you place now by choosing a ticket quantity below\, and clicking Get Tickets. You will then be able to make a secure PayPal or credit/debit card payment. Alternatively\, please click the link below\, under Details\, or contact InterUrban ArtHouse on 913-283-7091\, or email info@interurbanarthouse.org. \nIf you have specific enquiries about the class\, then you can email me directly on tichenorjill@gmail.com. I look forward to pastel painting with you soon!
URL:https://www.jilltichenor.art/event/painting-with-pastels-interurban-oct-23/
LOCATION:InterUrban ArtHouse\, 8001 Newton Street\, Overland Park\, KS\, 66204\, United States
CATEGORIES:Classes & Workshops
ATTACH;FMTTYPE=image/png:https://www.jilltichenor.art/wp-content/uploads/2023/09/paintingwithpastels-2-1030-1230.png
ORGANIZER;CN="InterUrban ArtHouse":MAILTO:info@interurbanarthouse.org
END:VEVENT
BEGIN:VEVENT
DTSTART;TZID=UTC:20231024T140000
DTEND;TZID=UTC:20231121T160000
DTSTAMP:20260419T131414
CREATED:20230923T123359Z
LAST-MODIFIED:20240103T232420Z
UID:1258-1698156000-1700582400@www.jilltichenor.art
SUMMARY:Beyond the Pencil (InterUrban) - Oct 2023
DESCRIPTION:This class will be a combination of reviewing the fundamental drawing exercises and experimenting with different mediums to draw and create. Students will be encouraged to try different mediums to take their work to a new level. To think outside the box. We will be taking a playful look towards the joys of making art. \n  \nThis artist-led class consists of six 2-hour sessions\, over six consecutive Tuesdays\, starting October 24th 2023\, until November 21st 2023. \nSupply List\n \nRecommended class materials include: \n\nPencils 2H\, 4H\, HB\, 2B\, 4B\, 6B\nStrathmore Mixed media sketchbook (at least 9×12 in size)\n1 watercolor brush angular ½\nWatercolor pencils\nKnead eraser x-large\nBlending stumps #3 size\nRuler\n3 x Sharpie\n2 x Posca pens of your choice of color\nHiggins black ink\nPentel sign pen (water-soluable)\nCharcoal vine\nStabilo Woody black\nWater-soluble graphite pencil\n\nHow to Enrol \nBook you place now by choosing a ticket quantity below\, and clicking Get Tickets. You will then be able to make a secure PayPal or credit/debit card payment. Alternatively\, please click the link below\, under Details\, or contact InterUrban ArtHouse on 913-283-7091\, or email info@interurbanarthouse.org. \nIf you have specific enquiries about the class\, then you can email me directly on tichenorjill@gmail.com. I look forward to pastel painting with you soon!
URL:https://www.jilltichenor.art/event/beyond-the-pencil-interurban-oct-23/
LOCATION:InterUrban ArtHouse\, 8001 Newton Street\, Overland Park\, KS\, 66204\, United States
CATEGORIES:Classes & Workshops
ATTACH;FMTTYPE=image/jpeg:https://www.jilltichenor.art/wp-content/uploads/2022/12/class-pen-and-ink-lake-district-house.jpg
ORGANIZER;CN="InterUrban ArtHouse":MAILTO:info@interurbanarthouse.org
END:VEVENT
BEGIN:VEVENT
DTSTART;TZID=UTC:20231027T140000
DTEND;TZID=UTC:20231117T160000
DTSTAMP:20260419T131414
CREATED:20230923T131118Z
LAST-MODIFIED:20230924T195154Z
UID:1271-1698415200-1700236800@www.jilltichenor.art
SUMMARY:Beyond the Pencil (Roeland Park) - Oct 2023
DESCRIPTION:This class will be a combination of reviewing the fundamental drawing exercises and experimenting with different mediums to draw and create. Students will be encouraged to try different mediums to take their work to a new level. To think outside the box. We will be taking a playful look towards the joys of making art. \n  \nThis artist-led class consists of four 2-hour sessions\, over four consecutive Fridays\, starting October 27th 2023\, until November 17th 2023. \nSupply List\n \nRecommended class materials include: \n\nPencils 2H\, 4H\, HB\, 2B\, 4B\, 6B\nStrathmore Mixed media sketchbook (at least 9×12 in size)\n1 watercolor brush angular ½\nWatercolor pencils\nKnead eraser x-large\nBlending stumps #3 size\nRuler\n3 x Sharpie\n2 x Posca pens of your choice of color\nHiggins black ink\nPentel sign pen (water-soluable)\nCharcoal vine\nStabilo Woody black\nWater-soluble graphite pencil\n\nHow to Enrol \nBook you place now by choosing a ticket quantity below\, and clicking Get Tickets. You will then be able to make a secure PayPal or credit/debit card payment. Alternatively\, email me directly on tichenorjill@gmail.com. I look forward to pastel painting with you soon!
URL:https://www.jilltichenor.art/event/beyond-the-pencil-roeland-park-oct-23/
LOCATION:Buena Vista Studio\, 4301 West 51st Street\, Roeland Park\, KS\, 66205\, United States
CATEGORIES:Classes & Workshops
ATTACH;FMTTYPE=image/jpeg:https://www.jilltichenor.art/wp-content/uploads/2023/01/acrylic.jpg
END:VEVENT
END:VCALENDAR