BEGIN:VCALENDAR
VERSION:2.0
PRODID:-//The Art of Jill Tichenor - ECPv6.15.17.1//NONSGML v1.0//EN
CALSCALE:GREGORIAN
METHOD:PUBLISH
X-ORIGINAL-URL:https://www.jilltichenor.art
X-WR-CALDESC:Events for The Art of Jill Tichenor
REFRESH-INTERVAL;VALUE=DURATION:PT1H
X-Robots-Tag:noindex
X-PUBLISHED-TTL:PT1H
BEGIN:VTIMEZONE
TZID:UTC
BEGIN:STANDARD
TZOFFSETFROM:+0000
TZOFFSETTO:+0000
TZNAME:UTC
DTSTART:20220101T000000
END:STANDARD
END:VTIMEZONE
BEGIN:VEVENT
DTSTART;TZID=UTC:20230711T103000
DTEND;TZID=UTC:20230815T123000
DTSTAMP:20260419T174026
CREATED:20230725T174211Z
LAST-MODIFIED:20230924T195335Z
UID:1052-1689071400-1692102600@www.jilltichenor.art
SUMMARY:Painting with Pastels (InterUrban) - July 2023
DESCRIPTION:This class\, which is tailored towards beginners to intermediate\, will provide insight into some of my techniques and inspirations. It will benefit beginners\, as well as experienced pastel artists who would like to enhance their skills. \nThis artist-led class consists of six 2-hour sessions\, over six consecutive Tuesdays\, starting 11th July\, 2023. \nSupply List\n \nRecommended class materials include: \n\nRembrandt Pastels (15 Stick Set)\nPastel Paper (Recommended: Strathmore pastel paper pads\, Canson pastel paper pads\, Strathmore mixed media paper pads)\nStumps #4 size\nKnead eraser (large)\nApron\nCharcoal pencil\nWax paper\n\nHow to Enrol \nTo enrol\, please click the link below\, under Details\, alternatively call InterUrban ArtHouse on 913-283-7091\, or email info@interurbanarthouse.org. If you have specific enquiries about the class\, then you can email me directly on tichenorjill@gmail.com. I look forward to pastel painting with you soon!
URL:https://www.jilltichenor.art/event/painting-with-pastels-interurban-arthouse-2/
LOCATION:InterUrban ArtHouse\, 8001 Newton Street\, Overland Park\, KS\, 66204\, United States
CATEGORIES:Classes & Workshops
ATTACH;FMTTYPE=image/jpeg:https://www.jilltichenor.art/wp-content/uploads/2023/07/class-pastel-sailing-thomas-eakins-sailing.jpg
ORGANIZER;CN="InterUrban ArtHouse":MAILTO:info@interurbanarthouse.org
END:VEVENT
BEGIN:VEVENT
DTSTART;TZID=UTC:20230714T103000
DTEND;TZID=UTC:20230818T123000
DTSTAMP:20260419T174026
CREATED:20230725T180311Z
LAST-MODIFIED:20230924T195325Z
UID:1058-1689330600-1692361800@www.jilltichenor.art
SUMMARY:Painting with Pastels (Roeland Park) - July 2023
DESCRIPTION:This class will provide insight into some of my techniques and inspirations. It will benefit beginners\, as well as experienced pastel artists who would like to enhance their skills. \nThis artist-led class consists of six 2-hour sessions\, over six consecutive Fridays\, starting 14th July\, 2023. \nClass Kit \nRecommended class materials include: \n\nRembrandt Pastels (15 Stick Set)\nPastel Paper (Recommended: Strathmore pastel paper pads\, Canson pastel paper pads\, Strathmore mixed media paper pads)\nStumps #4 size\nKnead eraser (large)\nApron\nCharcoal pencil\nWax paper\n\nHow to Enrol \nTo enrol\, email tichenorjill@gmail.com with your enquiry and contact details. I look forward to pastel painting with you soon!
URL:https://www.jilltichenor.art/event/painting-with-pastels-roeland-park-2/
LOCATION:Buena Vista Studio\, 4301 West 51st Street\, Roeland Park\, KS\, 66205\, United States
CATEGORIES:Classes & Workshops
ATTACH;FMTTYPE=image/jpeg:https://www.jilltichenor.art/wp-content/uploads/2023/07/class-pastel-tulips.jpg
END:VEVENT
BEGIN:VEVENT
DTSTART;TZID=UTC:20230714T140000
DTEND;TZID=UTC:20230818T160000
DTSTAMP:20260419T174026
CREATED:20230725T175138Z
LAST-MODIFIED:20230924T195314Z
UID:1055-1689343200-1692374400@www.jilltichenor.art
SUMMARY:Beyond the Pencil (Roeland Park) - July 2023
DESCRIPTION:This class will be a combination of reviewing the fundamental drawing exercises and experimenting with different mediums to draw and create. Students will be encouraged to try different mediums to take their work to a new level. To think outside the box. We will be taking a playful look towards the joys of making art. \n  \nThis artist-led class consists of six 2-hour sessions\, over six consecutive Fridays\, starting 14th July\, 2023. \nSupply List\n \nRecommended class materials include: \n\nPencils 2H\, 4H\, HB\, 2B\, 4B\, 6B\nStrathmore Mixed media sketchbook (at least 9×12 in size)\n1 watercolor brush angular ½\nWatercolor pencils\nKnead eraser x-large\nBlending stumps #3 size\nRuler\n3 x Sharpie\n2 x Posca pens of your choice of color\nHiggins black ink\nPentel sign pen (water-soluable)\nCharcoal vine\nStabilo Woody black\nWater-soluble graphite pencil\n\nHow to Enrol \nTo enrol\, email tichenorjill@gmail.com with your enquiry and contact details. I look forward to pastel painting with you soon!
URL:https://www.jilltichenor.art/event/beyond-the-pencil-roeland-park-3/
LOCATION:Buena Vista Studio\, 4301 West 51st Street\, Roeland Park\, KS\, 66205\, United States
CATEGORIES:Classes & Workshops
ATTACH;FMTTYPE=image/jpeg:https://www.jilltichenor.art/wp-content/uploads/2023/07/class-beyond-the-pencil-denim.jpg
END:VEVENT
END:VCALENDAR